BEGIN:VCALENDAR
VERSION:2.0
PRODID:-//Collectif des Femmes - ECPv6.15.20//NONSGML v1.0//EN
CALSCALE:GREGORIAN
METHOD:PUBLISH
X-WR-CALNAME:Collectif des Femmes
X-ORIGINAL-URL:https://collectifdesfemmes.be
X-WR-CALDESC:Évènements pour Collectif des Femmes
REFRESH-INTERVAL;VALUE=DURATION:PT1H
X-Robots-Tag:noindex
X-PUBLISHED-TTL:PT1H
BEGIN:VTIMEZONE
TZID:Europe/Brussels
BEGIN:DAYLIGHT
TZOFFSETFROM:+0100
TZOFFSETTO:+0200
TZNAME:CEST
DTSTART:20250330T010000
END:DAYLIGHT
BEGIN:STANDARD
TZOFFSETFROM:+0200
TZOFFSETTO:+0100
TZNAME:CET
DTSTART:20251026T010000
END:STANDARD
BEGIN:DAYLIGHT
TZOFFSETFROM:+0100
TZOFFSETTO:+0200
TZNAME:CEST
DTSTART:20260329T010000
END:DAYLIGHT
BEGIN:STANDARD
TZOFFSETFROM:+0200
TZOFFSETTO:+0100
TZNAME:CET
DTSTART:20261025T010000
END:STANDARD
BEGIN:DAYLIGHT
TZOFFSETFROM:+0100
TZOFFSETTO:+0200
TZNAME:CEST
DTSTART:20270328T010000
END:DAYLIGHT
BEGIN:STANDARD
TZOFFSETFROM:+0200
TZOFFSETTO:+0100
TZNAME:CET
DTSTART:20271031T010000
END:STANDARD
END:VTIMEZONE
BEGIN:VEVENT
DTSTART;TZID=Europe/Brussels:20260313T133000
DTEND;TZID=Europe/Brussels:20260313T160000
DTSTAMP:20260420T171740
CREATED:20260213T125111Z
LAST-MODIFIED:20260213T125111Z
UID:29405-1773408600-1773417600@collectifdesfemmes.be
SUMMARY:Femmes et violences: comment agir?
DESCRIPTION:Le Collectif des Femmes vous invite à un après-midi entre femmes autour d’un sujet essentiel et délicat : les violences faites aux femmes et les manières d’y faire face. \nCet espace d’échange se veut bienveillant\, sécurisant et sans obligation de prise de parole. \nNous réfléchirons ensemble aux différentes formes de violences\, aux ressources existantes\, aux pistes pour se protéger\, soutenir une autre femme ou demander de l’aide. \nUn moment pour s’informer\, se renforcer et ne pas rester seule\, à son rythme. \n Accueil chaleureux\, écoute respectueuse\, confidentialité garantie. \n\n Vendredi 27 février 2026 13h30 – 16h00 Le Café Monde\, 20 rue Verte Voie\, 1348 Louvain-la-Neuve \n Activité réservée aux femmes. \n Infos & inscriptions :tremplinpourlavie 010 / 46 06 11 \n\nVous êtes les bienvenues\, telles que vous êtes
URL:https://collectifdesfemmes.be/event/femmes-et-violences-comment-agir/
LOCATION:Le Café Monde\, rue Verte Voie 20\, 1348 Louvain-la-Neuve\, 1348\, Belgium
CATEGORIES:Bien-être,Education,Féminisme
ATTACH;FMTTYPE=image/png:https://collectifdesfemmes.be/wp-content/uploads/2026/01/PM-ENTRE-FEMMES-ss-AVIQ14.png
ORGANIZER;CN="Collectif des Femmes (Tremplin pour la vie)":MAILTO:tremplinpourlavie@collectifdesfemmes.be
END:VEVENT
END:VCALENDAR