BEGIN:VCALENDAR
VERSION:2.0
PRODID:-//Collectif des Femmes - ECPv6.15.20//NONSGML v1.0//EN
CALSCALE:GREGORIAN
METHOD:PUBLISH
X-ORIGINAL-URL:https://collectifdesfemmes.be
X-WR-CALDESC:Évènements pour Collectif des Femmes
REFRESH-INTERVAL;VALUE=DURATION:PT1H
X-Robots-Tag:noindex
X-PUBLISHED-TTL:PT1H
BEGIN:VTIMEZONE
TZID:Europe/Brussels
BEGIN:DAYLIGHT
TZOFFSETFROM:+0100
TZOFFSETTO:+0200
TZNAME:CEST
DTSTART:20250330T010000
END:DAYLIGHT
BEGIN:STANDARD
TZOFFSETFROM:+0200
TZOFFSETTO:+0100
TZNAME:CET
DTSTART:20251026T010000
END:STANDARD
BEGIN:DAYLIGHT
TZOFFSETFROM:+0100
TZOFFSETTO:+0200
TZNAME:CEST
DTSTART:20260329T010000
END:DAYLIGHT
BEGIN:STANDARD
TZOFFSETFROM:+0200
TZOFFSETTO:+0100
TZNAME:CET
DTSTART:20261025T010000
END:STANDARD
BEGIN:DAYLIGHT
TZOFFSETFROM:+0100
TZOFFSETTO:+0200
TZNAME:CEST
DTSTART:20270328T010000
END:DAYLIGHT
BEGIN:STANDARD
TZOFFSETFROM:+0200
TZOFFSETTO:+0100
TZNAME:CET
DTSTART:20271031T010000
END:STANDARD
END:VTIMEZONE
BEGIN:VEVENT
DTSTART;TZID=Europe/Brussels:20260320T110000
DTEND;TZID=Europe/Brussels:20260320T140000
DTSTAMP:20260420T153817
CREATED:20260226T121537Z
LAST-MODIFIED:20260226T121537Z
UID:29677-1774004400-1774015200@collectifdesfemmes.be
SUMMARY:Journée de lutte pour le droit des femmes
DESCRIPTION:🔥✊ Rejoignez-nous pour lutter pour le droit des femmes le 6 mars 2026 à Louvain-La-Neuve ! ✊🔥\n\n\nLe collectif des femmes vous invite au village associatif féministe du 6 mars 2026 à la place de l’université de 11h à 14h pour continuer de lutter pour l’égalité entre les genres 💜✨\n\n\n\nAu programme :\n\n\nJeux\n\n\nAtelier pancartes\n\n\nDiscours à 13h\n\n\n\nCe moment est une affirmation : nos droits se gagnent et se défendent chaque jour 💪📢\n\n\n 📍 Lieu : Place de l’université\n\n\n⏰ De 11h à 14h\n\n\nOn vous attend nombreux.euses 💥👭✊
URL:https://collectifdesfemmes.be/event/journee-de-lutte-pour-le-droit-des-femmes/
LOCATION:Place de l’Université\, Place de l'Université\, 1348 Louvain-la-Neuve\, 1348\, Belgium
CATEGORIES:Féminisme
ATTACH;FMTTYPE=image/png:https://collectifdesfemmes.be/wp-content/uploads/2026/02/Publication-Instagram-1.png
END:VEVENT
BEGIN:VEVENT
DTSTART;TZID=Europe/Brussels:20260320T133000
DTEND;TZID=Europe/Brussels:20260320T160000
DTSTAMP:20260420T153817
CREATED:20260226T134455Z
LAST-MODIFIED:20260226T134455Z
UID:29702-1774013400-1774022400@collectifdesfemmes.be
SUMMARY:Droits des femmes & création de pancartes
DESCRIPTION:À l’occasion du 8 mars\, Journée internationale des droits des femmes\, le Collectif des Femmes vous invite à un après-midi entre femmes placé sous le signe de l’échange\, de la créativité et de l’engagement. \nNous vous proposons un moment convivial pour :✨ échanger autour des droits des femmes\, ici et ailleurs✨ partager nos expériences et nos réalités✨ réfléchir ensemble aux enjeux actuels✨ créer nos propres pancartes militantes en vue des mobilisations du 8 mars \nCet atelier est ouvert à toutes les femmes qui souhaitent s’exprimer\, créer\, revendiquer et faire entendre leur voix dans un espace bienveillant et solidaire. \nAucune compétence artistique n’est nécessaire : venez comme vous êtes\, avec vos idées\, votre énergie et votre envie de participer ✊🏾 \n📍 Lieu : Le Café Monde\, 20 rue Verte Voie\, 1348 Louvain-la-Neuve📞 010/46 06 11📧 tremplinpourlavie \nEnsemble\, faisons du 8 mars un moment fort de visibilité\, de solidarité et de revendication. \nOn vous attend nombreuses 💜
URL:https://collectifdesfemmes.be/event/droits-des-femmes-creation-de-pancartes/
LOCATION:Le Café Monde\, rue Verte Voie 20\, 1348 Louvain-la-Neuve\, 1348\, Belgium
CATEGORIES:Education,Féminisme
ATTACH;FMTTYPE=image/png:https://collectifdesfemmes.be/wp-content/uploads/2026/02/5.png
ORGANIZER;CN="Collectif des Femmes (Tremplin pour la vie)":MAILTO:tremplinpourlavie@collectifdesfemmes.be
END:VEVENT
BEGIN:VEVENT
DTSTART;TZID=Europe/Brussels:20260327T133000
DTEND;TZID=Europe/Brussels:20260327T160000
DTSTAMP:20260420T153817
CREATED:20260226T134653Z
LAST-MODIFIED:20260226T134653Z
UID:29704-1774618200-1774627200@collectifdesfemmes.be
SUMMARY:Printemps\, la nature change… et moi ?
DESCRIPTION:Le printemps arrive. La nature se transforme\, fleurit\, renaît…Et nous ? \nLe Collectif des Femmes vous invite à un après-midi entre femmes\, un moment de pause et de réflexion pour se reconnecter à soi\, aux autres et aux changements que nous traversons. \nAu programme :🌿 échanges autour des cycles\, des transitions et des transformations🌸 partage d’expériences dans un cadre bienveillant✨ réflexion collective sur nos envies\, nos besoins et nos évolutions💬 discussions libres\, parole et écoute \nCet espace est ouvert à toutes celles qui souhaitent prendre un temps pour elles\, dans la solidarité et la sororité. \nAucun prérequis\, simplement l’envie d’être là\, ensemble. \n📍 Lieu : Le Café Monde\, 20 rue Verte Voie\, 1348 Louvain-la-Neuve📞 010/46 06 11📧 tremplinpourlavie
URL:https://collectifdesfemmes.be/event/printemps-la-nature-change-et-moi/
LOCATION:Le Café Monde\, rue Verte Voie 20\, 1348 Louvain-la-Neuve\, 1348\, Belgium
CATEGORIES:Education,Féminisme
ATTACH;FMTTYPE=image/png:https://collectifdesfemmes.be/wp-content/uploads/2026/02/6.png
ORGANIZER;CN="Collectif des Femmes (Tremplin pour la vie)":MAILTO:tremplinpourlavie@collectifdesfemmes.be
END:VEVENT
BEGIN:VEVENT
DTSTART;TZID=Europe/Brussels:20260403T133000
DTEND;TZID=Europe/Brussels:20260403T160000
DTSTAMP:20260420T153817
CREATED:20260226T134859Z
LAST-MODIFIED:20260226T134859Z
UID:29706-1775223000-1775232000@collectifdesfemmes.be
SUMMARY:Viens partager les traditions qui font de toi qui tu es
DESCRIPTION:Nos traditions racontent nos histoires.Elles portent nos racines\, nos cultures\, nos mémoires et nos identités. \nLe Collectif des Femmes vous invite à un après-midi entre femmes dédié au partage des traditions qui façonnent qui nous sommes : chants\, rituels\, objets symboliques\, récits\, pratiques culturelles ou souvenirs transmis de génération en génération. \nAu programme :✨ échanges interculturels🎶 moments de partage (musique\, chants\, rythmes\, récits…)🌺 valorisation des identités et des héritages🤝 rencontre et dialogue dans un espace chaleureux et bienveillant \nC’est une invitation à célébrer la diversité\, à reconnaître la richesse de nos parcours et à créer du lien entre femmes d’ici et d’ailleurs. \nVous pouvez apporter un objet\, une musique\, une histoire ou simplement votre présence. \n📍 Lieu : Le Café Monde\, 20 rue Verte Voie\, 1348 Louvain-la-Neuve📞 010/46 06 11📧 tremplinpourlavie
URL:https://collectifdesfemmes.be/event/viens-partager-les-traditions-qui-font-de-toi-qui-tu-es/
LOCATION:Le Café Monde\, rue Verte Voie 20\, 1348 Louvain-la-Neuve\, 1348\, Belgium
CATEGORIES:Education,Féminisme
ATTACH;FMTTYPE=image/png:https://collectifdesfemmes.be/wp-content/uploads/2026/02/7.png
ORGANIZER;CN="Collectif des Femmes (Tremplin pour la vie)":MAILTO:tremplinpourlavie@collectifdesfemmes.be
END:VEVENT
BEGIN:VEVENT
DTSTART;TZID=Europe/Brussels:20260410T133000
DTEND;TZID=Europe/Brussels:20260410T160000
DTSTAMP:20260420T153817
CREATED:20260226T135108Z
LAST-MODIFIED:20260226T135108Z
UID:29708-1775827800-1775836800@collectifdesfemmes.be
SUMMARY:Comment je me ressource pour prendre soin de ma santé ?
DESCRIPTION:Prendre soin de sa santé\, ce n’est pas seulement aller chez le médecin.C’est aussi écouter son corps\, respecter ses limites\, trouver des espaces de repos et de ressourcement. \nLe Collectif des Femmes vous invite à un après-midi entre femmes pour réfléchir ensemble à nos manières de nous ressourcer et de préserver notre bien-être physique\, mental et émotionnel. \nAu programme :🌸 échanges autour de la santé et du bien-être🌿 partage de pratiques qui nous font du bien (repos\, rituels\, activités\, spiritualité\, nature…)💬 discussion sur les obstacles que nous rencontrons pour prendre soin de nous🤝 création d’un espace de parole bienveillant et solidaire \nUn moment pour ralentir\, respirer\, se recentrer… et repartir avec des idées concrètes pour mieux prendre soin de soi au quotidien. \n📍 Lieu : Le Café Monde\, 20 rue Verte Voie\, 1348 Louvain-la-Neuve📞 010/46 06 11📧 tremplinpourlavie
URL:https://collectifdesfemmes.be/event/comment-je-me-ressource-pour-prendre-soin-de-ma-sante/
LOCATION:Le Café Monde\, rue Verte Voie 20\, 1348 Louvain-la-Neuve\, 1348\, Belgium
CATEGORIES:Education,Féminisme
ATTACH;FMTTYPE=image/png:https://collectifdesfemmes.be/wp-content/uploads/2026/02/8.png
ORGANIZER;CN="Collectif des Femmes (Tremplin pour la vie)":MAILTO:tremplinpourlavie@collectifdesfemmes.be
END:VEVENT
END:VCALENDAR