BEGIN:VCALENDAR
VERSION:2.0
PRODID:-//Collectif des Femmes - ECPv6.15.20//NONSGML v1.0//EN
CALSCALE:GREGORIAN
METHOD:PUBLISH
X-WR-CALNAME:Collectif des Femmes
X-ORIGINAL-URL:https://collectifdesfemmes.be
X-WR-CALDESC:Évènements pour Collectif des Femmes
REFRESH-INTERVAL;VALUE=DURATION:PT1H
X-Robots-Tag:noindex
X-PUBLISHED-TTL:PT1H
BEGIN:VTIMEZONE
TZID:Europe/Brussels
BEGIN:DAYLIGHT
TZOFFSETFROM:+0100
TZOFFSETTO:+0200
TZNAME:CEST
DTSTART:20250330T010000
END:DAYLIGHT
BEGIN:STANDARD
TZOFFSETFROM:+0200
TZOFFSETTO:+0100
TZNAME:CET
DTSTART:20251026T010000
END:STANDARD
BEGIN:DAYLIGHT
TZOFFSETFROM:+0100
TZOFFSETTO:+0200
TZNAME:CEST
DTSTART:20260329T010000
END:DAYLIGHT
BEGIN:STANDARD
TZOFFSETFROM:+0200
TZOFFSETTO:+0100
TZNAME:CET
DTSTART:20261025T010000
END:STANDARD
BEGIN:DAYLIGHT
TZOFFSETFROM:+0100
TZOFFSETTO:+0200
TZNAME:CEST
DTSTART:20270328T010000
END:DAYLIGHT
BEGIN:STANDARD
TZOFFSETFROM:+0200
TZOFFSETTO:+0100
TZNAME:CET
DTSTART:20271031T010000
END:STANDARD
END:VTIMEZONE
BEGIN:VEVENT
DTSTART;TZID=Europe/Brussels:20260430T180000
DTEND;TZID=Europe/Brussels:20260430T200000
DTSTAMP:20260422T140731
CREATED:20260319T112952Z
LAST-MODIFIED:20260319T131839Z
UID:29796-1777572000-1777579200@collectifdesfemmes.be
SUMMARY:DUO vers l'inclusion: Voyage culinaire au Mexique
DESCRIPTION:Envie de découvrir la cuisine mexicaine\, d’en apprendre les saveurs\, les gestes et les histoires ?Le Collectif des Femmes vous invite à un atelier cuisine du monde\, pour un véritable voyage culinaire au Mexique. \n 23 avril 2026 – 18h00 \n Lieu : 19\, rue des Sports – 1348 Louvain-la-Neuve Infos : 010/46 06 11 Email : tremplinpourlavie@collectifdesfemmes.be\n Participation gratuite Activité ouverte à toutes
URL:https://collectifdesfemmes.be/event/duo-vers-linclusion-voyage-culinaire-au-mexique/
LOCATION:Collectif des Femmes – Sports\, Rue des Sports 19\, 1348 Louvain-la-Neuve\, 1348\, Belgium
CATEGORIES:Bien-être,Education,Migration
ATTACH;FMTTYPE=image/png:https://collectifdesfemmes.be/wp-content/uploads/2026/03/Duo-Cuisine-du-monde-20258.png
ORGANIZER;CN="Collectif des Femmes (Tremplin pour la vie)":MAILTO:tremplinpourlavie@collectifdesfemmes.be
END:VEVENT
BEGIN:VEVENT
DTSTART;TZID=Europe/Brussels:20260504T093000
DTEND;TZID=Europe/Brussels:20260508T150000
DTSTAMP:20260422T140731
CREATED:20260319T112219Z
LAST-MODIFIED:20260319T112219Z
UID:29794-1777887000-1778252400@collectifdesfemmes.be
SUMMARY:Stage Cinéma
DESCRIPTION:Prête à passer devant la caméra et révéler ton talent ? 🎬Rejoins-nous pour une semaine unique entre femmes et crée ton propre portrait cinématographique\, dans une ambiance bienveillante\, créative et 100% gratuite ! \n📆 du 27 avril au 1er mai 2026 – 9h30 à 15h00 \n📍 Lieu : 71\, rue de la Citronelle – 1348 Louvain-la-Neuve📞 Infos : 0468/38 22 00📧 Email : cathydegreef\n✨ Participation gratuite👥 Activité ouverte à toutes
URL:https://collectifdesfemmes.be/event/stage-cinema/
LOCATION:Collectif des Femmes – Citronnelle\, Rue de la Citronnelle 71\, 1348 Louvain-la-Neuve\, 1348\, Belgium
CATEGORIES:Bien-être
ATTACH;FMTTYPE=image/png:https://collectifdesfemmes.be/wp-content/uploads/2026/03/Stage-Cinema.png
ORGANIZER;CN="Collectif des Femmes (Sports)":MAILTO:accueil@collectifdesfemmes.be
END:VEVENT
END:VCALENDAR