BEGIN:VCALENDAR
VERSION:2.0
PRODID:-//Collectif des Femmes - ECPv6.15.20//NONSGML v1.0//EN
CALSCALE:GREGORIAN
METHOD:PUBLISH
X-WR-CALNAME:Collectif des Femmes
X-ORIGINAL-URL:https://collectifdesfemmes.be
X-WR-CALDESC:Évènements pour Collectif des Femmes
REFRESH-INTERVAL;VALUE=DURATION:PT1H
X-Robots-Tag:noindex
X-PUBLISHED-TTL:PT1H
BEGIN:VTIMEZONE
TZID:Europe/Brussels
BEGIN:DAYLIGHT
TZOFFSETFROM:+0100
TZOFFSETTO:+0200
TZNAME:CEST
DTSTART:20250330T010000
END:DAYLIGHT
BEGIN:STANDARD
TZOFFSETFROM:+0200
TZOFFSETTO:+0100
TZNAME:CET
DTSTART:20251026T010000
END:STANDARD
BEGIN:DAYLIGHT
TZOFFSETFROM:+0100
TZOFFSETTO:+0200
TZNAME:CEST
DTSTART:20260329T010000
END:DAYLIGHT
BEGIN:STANDARD
TZOFFSETFROM:+0200
TZOFFSETTO:+0100
TZNAME:CET
DTSTART:20261025T010000
END:STANDARD
BEGIN:DAYLIGHT
TZOFFSETFROM:+0100
TZOFFSETTO:+0200
TZNAME:CEST
DTSTART:20270328T010000
END:DAYLIGHT
BEGIN:STANDARD
TZOFFSETFROM:+0200
TZOFFSETTO:+0100
TZNAME:CET
DTSTART:20271031T010000
END:STANDARD
END:VTIMEZONE
BEGIN:VEVENT
DTSTART;TZID=Europe/Brussels:20260315T130000
DTEND;TZID=Europe/Brussels:20260315T150000
DTSTAMP:20260422T154517
CREATED:20260213T111649Z
LAST-MODIFIED:20260213T112426Z
UID:29376-1773579600-1773586800@collectifdesfemmes.be
SUMMARY:Bouger ensemble pour le plaisir… et pour une belle cause
DESCRIPTION:Et si votre énergie servait une bonne cause? Rejoignez L’Union Sportive le 01/03/2026 de 13h à 15h pour un événement sportif unique\, fun et accessible à tous. \nDéfis en équipe\, sports collectifs originaux et bonne humeur garantie… le tout au profit du Collectif des Femmes.\n Centre sportif du Blocry – Salle H2 Inscrivez-vous et bougez utile !
URL:https://collectifdesfemmes.be/event/bouger-ensemble-pour-le-plaisir-et-pour-une-belle-cause/
LOCATION:Centre sportif du Blocry\, Centre sportif du Blocry – Salle H2\, Ottignies-Louvain-la-Neuve\, 1348\, Belgium
CATEGORIES:Bien-être,Donation,Santé,Sport
ATTACH;FMTTYPE=image/png:https://collectifdesfemmes.be/wp-content/uploads/2026/01/Lunion-sportive4.png
END:VEVENT
BEGIN:VEVENT
DTSTART;TZID=Europe/Brussels:20260322T080000
DTEND;TZID=Europe/Brussels:20260322T180000
DTSTAMP:20260422T154517
CREATED:20260226T123952Z
LAST-MODIFIED:20260226T123952Z
UID:29693-1774166400-1774202400@collectifdesfemmes.be
SUMMARY:Le BW\, ça marche!
DESCRIPTION:
URL:https://collectifdesfemmes.be/event/le-bw-ca-marche/
LOCATION:Bois des Rêves\, Louvain-la-Neuve\, 1348\, Belgium
CATEGORIES:Bien-être,Santé,Sport
ATTACH;FMTTYPE=image/jpeg:https://collectifdesfemmes.be/wp-content/uploads/2026/02/Visuel-du-8-mars-1.jpg
END:VEVENT
BEGIN:VEVENT
DTSTART;TZID=Europe/Brussels:20260325T120000
DTEND;TZID=Europe/Brussels:20260325T130000
DTSTAMP:20260422T154517
CREATED:20260226T122200Z
LAST-MODIFIED:20260226T122200Z
UID:29680-1774440000-1774443600@collectifdesfemmes.be
SUMMARY:Une petite marche durant la pause de midi?
DESCRIPTION:Et si votre pause de midi devenait un moment pour vous ? \nLe Collectif des Femmes vous invite à une marche conviviale et dynamique autour du Lac de Louvain-la-Neuve. Un temps pour bouger\, respirer\, échanger et partager entre femmes\, dans une ambiance bienveillante et motivante. \n📅 Mardi 11 mars📅 Mardi 25 mars🕛 Rendez-vous à 12h devant la statue d’Yves de Monceau (Lac de Louvain-la-Neuve) \n💚 Activité gratuite \nVenez comme vous êtes\, seule ou accompagnée\, pour une pause active qui fait du bien au corps et à l’esprit ! \nOn vous attend nombreuses ✨
URL:https://collectifdesfemmes.be/event/une-petite-marche-durant-la-pause-de-midi/
LOCATION:Statue d’Yves de Monceau\, Statue d’Yves de Monceau (Lac de Louvain-la-Neuve)\, Louvain-la-Neuve\, 1348\, Belgium
CATEGORIES:Bien-être,Santé,Sport
ATTACH;FMTTYPE=image/png:https://collectifdesfemmes.be/wp-content/uploads/2026/02/Pause-de-Midi3.png
END:VEVENT
BEGIN:VEVENT
DTSTART;TZID=Europe/Brussels:20260408T120000
DTEND;TZID=Europe/Brussels:20260408T130000
DTSTAMP:20260422T154517
CREATED:20260226T122244Z
LAST-MODIFIED:20260226T122244Z
UID:29684-1775649600-1775653200@collectifdesfemmes.be
SUMMARY:Une petite marche durant la pause de midi?
DESCRIPTION:Et si votre pause de midi devenait un moment pour vous ? \nLe Collectif des Femmes vous invite à une marche conviviale et dynamique autour du Lac de Louvain-la-Neuve. Un temps pour bouger\, respirer\, échanger et partager entre femmes\, dans une ambiance bienveillante et motivante. \n📅 Mardi 11 mars📅 Mardi 25 mars🕛 Rendez-vous à 12h devant la statue d’Yves de Monceau (Lac de Louvain-la-Neuve) \n💚 Activité gratuite \nVenez comme vous êtes\, seule ou accompagnée\, pour une pause active qui fait du bien au corps et à l’esprit ! \nOn vous attend nombreuses ✨
URL:https://collectifdesfemmes.be/event/une-petite-marche-durant-la-pause-de-midi-2/
LOCATION:Statue d’Yves de Monceau\, Statue d’Yves de Monceau (Lac de Louvain-la-Neuve)\, Louvain-la-Neuve\, 1348\, Belgium
CATEGORIES:Bien-être,Santé,Sport
ATTACH;FMTTYPE=image/png:https://collectifdesfemmes.be/wp-content/uploads/2026/02/Pause-de-Midi3.png
END:VEVENT
END:VCALENDAR